BEGIN:VCALENDAR
VERSION:2.0
PRODID:-//jEvents 2.0 for Joomla//EN
CALSCALE:GREGORIAN
METHOD:PUBLISH
BEGIN:VEVENT
UID:e12677017317192fb25c2e411176f4bd
CATEGORIES:Vereinsveranstaltung
CREATED:20170118T111232
SUMMARY:Siegerehrung Stadt- und Vereinsmeisterschaft
URL;VALUE=URI:https://www.ski-weilheim.de/index.php/termine/terminejvevent/eventdetail/67
 /-/siegerehrung-stadt-und-vereinsmeisterschaft?tmpl=component
DESCRIPTION:Im TSV Vereinsheim\n Dieser Event wurde importiert von: https://www.ski-wei
 lheim.de/index.php/termine/terminejvevent/eventdetail/67/-/siegerehrung-sta
 dt-und-vereinsmeisterschaft?tmpl=component (https://www.ski-weilheim.de/ind
 ex.php/termine/terminejvevent/eventdetail/67/-/siegerehrung-stadt-und-verei
 nsmeisterschaft?tmpl=component)
X-ALT-DESC;FMTTYPE=text/html:<p>Im TSV Vereinsheim</p> <a href="https://www.ski-weilheim.de/index.php/te
 rmine/terminejvevent/eventdetail/67/-/siegerehrung-stadt-und-vereinsmeister
 schaft?tmpl=component">Dieser Event wurde importiert von: https://www.ski-w
 eilheim.de/index.php/termine/terminejvevent/eventdetail/67/-/siegerehrung-s
 tadt-und-vereinsmeisterschaft?tmpl=component</a>DTSTAMP:20260421T152846
DTSTART:20170318T193000
SEQUENCE:0
TRANSP:OPAQUE
END:VEVENT
END:VCALENDAR