BEGIN:VCALENDAR
VERSION:2.0
PRODID:-//jEvents 2.0 for Joomla//EN
CALSCALE:GREGORIAN
METHOD:PUBLISH
BEGIN:VEVENT
UID:f23a36b0a6ea25b900661b9675ce5adb
CATEGORIES:BZB-Cup
CREATED:20170102T214315
SUMMARY:8. BZB Cup (RS) Garmisch
URL;VALUE=URI:https://www.ski-weilheim.de/index.php/termine/terminejvevent/eventdetail/62
 /-/8-bzb-cup-rs-garmisch?tmpl=component
DESCRIPTION: Dieser Event wurde importiert von: https://www.ski-weilheim.de/index.php/t
 ermine/terminejvevent/eventdetail/62/-/8-bzb-cup-rs-garmisch?tmpl=component
  (https://www.ski-weilheim.de/index.php/termine/terminejvevent/eventdetail/
 62/-/8-bzb-cup-rs-garmisch?tmpl=component)
X-ALT-DESC;FMTTYPE=text/html: <a href="https://www.ski-weilheim.de/index.php/termine/terminejvevent/even
 tdetail/62/-/8-bzb-cup-rs-garmisch?tmpl=component">Dieser Event wurde impor
 tiert von: https://www.ski-weilheim.de/index.php/termine/terminejvevent/eve
 ntdetail/62/-/8-bzb-cup-rs-garmisch?tmpl=component</a>DTSTAMP:20260421T131835
DTSTART:20170325T080000
DTEND:20170325T120000
SEQUENCE:0
TRANSP:OPAQUE
END:VEVENT
END:VCALENDAR