BEGIN:VCALENDAR
VERSION:2.0
PRODID:-//jEvents 2.0 for Joomla//EN
CALSCALE:GREGORIAN
METHOD:PUBLISH
BEGIN:VEVENT
UID:2c3c88e0ce00886a0aa2e2e41067716a
CATEGORIES:BZB-Cup
CREATED:20161204T182654
SUMMARY:Finale BZB Cup (SL) Garmisch
URL;VALUE=URI:https://www.ski-weilheim.de/index.php/termine/terminejvevent/eventdetail/60
 /-/finale-bzb-cup-sl-garmisch?tmpl=component
DESCRIPTION: Dieser Event wurde importiert von: https://www.ski-weilheim.de/index.php/t
 ermine/terminejvevent/eventdetail/60/-/finale-bzb-cup-sl-garmisch?tmpl=comp
 onent (https://www.ski-weilheim.de/index.php/termine/terminejvevent/eventde
 tail/60/-/finale-bzb-cup-sl-garmisch?tmpl=component)
X-ALT-DESC;FMTTYPE=text/html: <a href="https://www.ski-weilheim.de/index.php/termine/terminejvevent/even
 tdetail/60/-/finale-bzb-cup-sl-garmisch?tmpl=component">Dieser Event wurde 
 importiert von: https://www.ski-weilheim.de/index.php/termine/terminejveven
 t/eventdetail/60/-/finale-bzb-cup-sl-garmisch?tmpl=component</a>DTSTAMP:20260421T102212
DTSTART:20170401T080000
SEQUENCE:0
TRANSP:OPAQUE
END:VEVENT
END:VCALENDAR