BEGIN:VCALENDAR
VERSION:2.0
PRODID:-//jEvents 2.0 for Joomla//EN
CALSCALE:GREGORIAN
METHOD:PUBLISH
BEGIN:VEVENT
UID:dd57c3c8dff25246f1c1bf996c3a4e67
CATEGORIES:BZB-Cup
CREATED:20161204T182634
SUMMARY:7. BZB Cup (SL) Garmisch
URL;VALUE=URI:https://www.ski-weilheim.de/index.php/termine/terminejvevent/eventdetail/59
 /-/7-bzb-cup-sl-garmisch?tmpl=component
DESCRIPTION: <a href="https://www.ski-weilheim.de/index.php/termine/terminejvevent/even
 tdetail/59/-/7-bzb-cup-sl-garmisch?tmpl=component">Dieser Event wurde impor
 tiert von: https://www.ski-weilheim.de/index.php/termine/terminejvevent/eve
 ntdetail/59/-/7-bzb-cup-sl-garmisch?tmpl=component</a>DTSTAMP:20260421T114548
DTSTART:20170311T080000
SEQUENCE:0
TRANSP:OPAQUE
END:VEVENT
END:VCALENDAR