BEGIN:VCALENDAR
VERSION:2.0
PRODID:-//jEvents 2.0 for Joomla//EN
CALSCALE:GREGORIAN
METHOD:PUBLISH
BEGIN:VEVENT
UID:d4d2ba71b9520f67299ca0bf2dc455a3
CATEGORIES:Vereinsveranstaltung
CREATED:20161204T181801
SUMMARY:Bayer. Justizmeisterschaft
URL;VALUE=URI:https://www.ski-weilheim.de/index.php/termine/terminejvevent/eventdetail/52
 /-/bayer-justizmeisterschaft?tmpl=component
DESCRIPTION: Dieser Event wurde importiert von: https://www.ski-weilheim.de/index.php/t
 ermine/terminejvevent/eventdetail/52/-/bayer-justizmeisterschaft?tmpl=compo
 nent (https://www.ski-weilheim.de/index.php/termine/terminejvevent/eventdet
 ail/52/-/bayer-justizmeisterschaft?tmpl=component)
X-ALT-DESC;FMTTYPE=text/html: <a href="https://www.ski-weilheim.de/index.php/termine/terminejvevent/even
 tdetail/52/-/bayer-justizmeisterschaft?tmpl=component">Dieser Event wurde i
 mportiert von: https://www.ski-weilheim.de/index.php/termine/terminejvevent
 /eventdetail/52/-/bayer-justizmeisterschaft?tmpl=component</a>DTSTAMP:20260421T125632
DTSTART:20170129T110000
DTEND:20170129T130000
SEQUENCE:0
TRANSP:OPAQUE
END:VEVENT
END:VCALENDAR