BEGIN:VCALENDAR
VERSION:2.0
PRODID:-//jEvents 2.0 for Joomla//EN
CALSCALE:GREGORIAN
METHOD:PUBLISH
BEGIN:VEVENT
UID:82a165eebdd5715cdce795a8e33cac86
CATEGORIES:Vereinsveranstaltung
CREATED:20161130T222838
SUMMARY:Vereinsmeisterschaft
URL;VALUE=URI:https://www.ski-weilheim.de/index.php/termine/terminejvevent/eventdetail/51
 /-/vereinsmeisterschaft?tmpl=component
DESCRIPTION: Dieser Event wurde importiert von: https://www.ski-weilheim.de/index.php/t
 ermine/terminejvevent/eventdetail/51/-/vereinsmeisterschaft?tmpl=component
X-ALT-DESC;FMTTYPE=text/html: <a href="https://www.ski-weilheim.de/index.php/termine/terminejvevent/even
 tdetail/51/-/vereinsmeisterschaft?tmpl=component">Dieser Event wurde import
 iert von: https://www.ski-weilheim.de/index.php/termine/terminejvevent/even
 tdetail/51/-/vereinsmeisterschaft?tmpl=component</a>X-EXTRAINFO:direkt hier über das Anmeldeformular (index.php/?option=com_visforms&amp;vi
 ew=visforms&amp;id=10)
DTSTAMP:20260421T131840
DTSTART:20170129T140000
SEQUENCE:0
TRANSP:OPAQUE
END:VEVENT
END:VCALENDAR