BEGIN:VCALENDAR
VERSION:2.0
PRODID:-//jEvents 2.0 for Joomla//EN
CALSCALE:GREGORIAN
METHOD:PUBLISH
BEGIN:VEVENT
UID:0ba70d6e111ff00900e0e6253bb3df42
CATEGORIES:Vereinsveranstaltung
CREATED:20161130T222740
SUMMARY:Stadtmeisterschaft
URL;VALUE=URI:https://www.ski-weilheim.de/index.php/termine/terminejvevent/eventdetail/50
 /-/stadtmeisterschaft?tmpl=component
DESCRIPTION: Dieser Event wurde importiert von: https://www.ski-weilheim.de/index.php/t
 ermine/terminejvevent/eventdetail/50/-/stadtmeisterschaft?tmpl=component (h
 ttps://www.ski-weilheim.de/index.php/termine/terminejvevent/eventdetail/50/
 -/stadtmeisterschaft?tmpl=component)
X-ALT-DESC;FMTTYPE=text/html: <a href="https://www.ski-weilheim.de/index.php/termine/terminejvevent/even
 tdetail/50/-/stadtmeisterschaft?tmpl=component">Dieser Event wurde importie
 rt von: https://www.ski-weilheim.de/index.php/termine/terminejvevent/eventd
 etail/50/-/stadtmeisterschaft?tmpl=component</a>X-EXTRAINFO:direkt hier über das Anmeldeformular (index.php/?option=com_visforms&amp;vi
 ew=visforms&amp;id=4)
DTSTAMP:20260421T090252
DTSTART:20170129T130000
SEQUENCE:0
TRANSP:OPAQUE
END:VEVENT
END:VCALENDAR