BEGIN:VCALENDAR
VERSION:2.0
PRODID:-//jEvents 2.0 for Joomla//EN
CALSCALE:GREGORIAN
METHOD:PUBLISH
BEGIN:VEVENT
UID:92851e86c86c82f1901cdf20b5e9b636
CATEGORIES:Zienercup
CREATED:20161112T074232
SUMMARY:Finale Ziener-Cup Garmisch/Hausberg
LOCATION:Kreuzwankl\, Gamisch
URL;VALUE=URI:https://www.ski-weilheim.de/index.php/termine/terminejvevent/eventdetail/19
 /-/finale-ziener-cup-garmisch-hausberg?tmpl=component
DESCRIPTION: Dieser Event wurde importiert von: https://www.ski-weilheim.de/index.php/t
 ermine/terminejvevent/eventdetail/19/-/finale-ziener-cup-garmisch-hausberg?
 tmpl=component
X-ALT-DESC;FMTTYPE=text/html: <a href="https://www.ski-weilheim.de/index.php/termine/terminejvevent/even
 tdetail/19/-/finale-ziener-cup-garmisch-hausberg?tmpl=component">Dieser Eve
 nt wurde importiert von: https://www.ski-weilheim.de/index.php/termine/term
 inejvevent/eventdetail/19/-/finale-ziener-cup-garmisch-hausberg?tmpl=compon
 ent</a>X-EXTRAINFO:anmelden (index.php/?option=com_visforms&amp;view=visforms&amp;id=9&amp;for
 m9rennendatum=02.04.2017&amp;form9rennenname=Finale Zienercup 5&amp;form9re
 nnenverein=SGW)
DTSTAMP:20260421T113127
DTSTART;VALUE=DATE:20170402
DTEND;VALUE=DATE:20170403
SEQUENCE:0
TRANSP:OPAQUE
END:VEVENT
END:VCALENDAR