BEGIN:VCALENDAR
VERSION:2.0
PRODID:-//jEvents 2.0 for Joomla//EN
CALSCALE:GREGORIAN
METHOD:PUBLISH
BEGIN:VEVENT
UID:b05a3d8dad9c7dd33e6e52f343aa243e
CATEGORIES:Kinderrennen
CREATED:20161112T074147
SUMMARY:Werdenfelser Kinderskitag
LOCATION:Kreuzwankl\, Garmisch
URL;VALUE=URI:https://www.ski-weilheim.de/index.php/termine/terminejvevent/eventdetail/18
 /-/werdenfelser-kinderskitag?tmpl=component
DESCRIPTION: Dieser Event wurde importiert von: https://www.ski-weilheim.de/index.php/t
 ermine/terminejvevent/eventdetail/18/-/werdenfelser-kinderskitag?tmpl=compo
 nent
X-ALT-DESC;FMTTYPE=text/html: <a href="https://www.ski-weilheim.de/index.php/termine/terminejvevent/even
 tdetail/18/-/werdenfelser-kinderskitag?tmpl=component">Dieser Event wurde i
 mportiert von: https://www.ski-weilheim.de/index.php/termine/terminejvevent
 /eventdetail/18/-/werdenfelser-kinderskitag?tmpl=component</a>DTSTAMP:20260421T202937
DTSTART;VALUE=DATE:20170325
DTEND;VALUE=DATE:20170326
SEQUENCE:0
TRANSP:OPAQUE
END:VEVENT
END:VCALENDAR