BEGIN:VCALENDAR
VERSION:2.0
PRODID:-//jEvents 2.0 for Joomla//EN
CALSCALE:GREGORIAN
METHOD:PUBLISH
BEGIN:VEVENT
UID:c3f461e2fb8fa42718d05a0fd81a6b8b
CATEGORIES:Vereinsveranstaltung
CREATED:20161112T073759
SUMMARY:Kreiscup TSV Weilheim
LOCATION:Kreuzwankl\, Garmisch
URL;VALUE=URI:https://www.ski-weilheim.de/index.php/termine/terminejvevent/eventdetail/14
 /-/kreiscup-tsv-weilheim?tmpl=component
DESCRIPTION: Dieser Event wurde importiert von: https://www.ski-weilheim.de/index.php/t
 ermine/terminejvevent/eventdetail/14/-/kreiscup-tsv-weilheim?tmpl=component
X-ALT-DESC;FMTTYPE=text/html: <a href="https://www.ski-weilheim.de/index.php/termine/terminejvevent/even
 tdetail/14/-/kreiscup-tsv-weilheim?tmpl=component">Dieser Event wurde impor
 tiert von: https://www.ski-weilheim.de/index.php/termine/terminejvevent/eve
 ntdetail/14/-/kreiscup-tsv-weilheim?tmpl=component</a>DTSTAMP:20260421T152859
DTSTART;VALUE=DATE:20170219
DTEND;VALUE=DATE:20170220
SEQUENCE:0
TRANSP:OPAQUE
END:VEVENT
END:VCALENDAR