BEGIN:VCALENDAR
VERSION:2.0
PRODID:-//jEvents 2.0 for Joomla//EN
CALSCALE:GREGORIAN
METHOD:PUBLISH
BEGIN:VEVENT
UID:7a7cd70021a4f5925088ad2bda7b1d5c
CATEGORIES:Schulferien
CREATED:20161112T073432
SUMMARY:Faschingsferien
URL;VALUE=URI:https://www.ski-weilheim.de/index.php/termine/terminejvevent/eventdetail/12
 /-/faschingsferien?tmpl=component
DESCRIPTION: <a href="https://www.ski-weilheim.de/index.php/termine/terminejvevent/even
 tdetail/12/-/faschingsferien?tmpl=component">Dieser Event wurde importiert 
 von: https://www.ski-weilheim.de/index.php/termine/terminejvevent/eventdeta
 il/12/-/faschingsferien?tmpl=component</a>DTSTAMP:20260421T102041
DTSTART;VALUE=DATE:20170225
DTEND;VALUE=DATE:20170305
SEQUENCE:0
TRANSP:OPAQUE
END:VEVENT
END:VCALENDAR